BEGIN:VCALENDAR
VERSION:2.0
PRODID:-//Crossroads4Hope - ECPv6.10.2//NONSGML v1.0//EN
CALSCALE:GREGORIAN
METHOD:PUBLISH
X-WR-CALNAME:Crossroads4Hope
X-ORIGINAL-URL:https://crossroads4hope.org
X-WR-CALDESC:Events for Crossroads4Hope
REFRESH-INTERVAL;VALUE=DURATION:PT1H
X-Robots-Tag:noindex
X-PUBLISHED-TTL:PT1H
BEGIN:VTIMEZONE
TZID:America/New_York
BEGIN:DAYLIGHT
TZOFFSETFROM:-0500
TZOFFSETTO:-0400
TZNAME:EDT
DTSTART:20260308T070000
END:DAYLIGHT
BEGIN:STANDARD
TZOFFSETFROM:-0400
TZOFFSETTO:-0500
TZNAME:EST
DTSTART:20261101T060000
END:STANDARD
END:VTIMEZONE
BEGIN:VEVENT
DTSTART;TZID=America/New_York:20260525T180000
DTEND;TZID=America/New_York:20260525T190000
DTSTAMP:20260420T054258
CREATED:20260325T194733Z
LAST-MODIFIED:20260325T194733Z
UID:10002288-1779732000-1779735600@crossroads4hope.org
SUMMARY:Wellness Workout (Evening)
DESCRIPTION:
URL:https://crossroads4hope.org/event/wellness-workout-evening-9/
CATEGORIES:Mind & Body,Virtual
ATTACH;FMTTYPE=image/webp:https://crossroads4hope.org/wp-content/uploads/2025/03/AdobeStock_635220021-2048x1502-iLUHZ3.tmp_.webp
END:VEVENT
BEGIN:VEVENT
DTSTART;TZID=America/New_York:20260526T093000
DTEND;TZID=America/New_York:20260526T103000
DTSTAMP:20260420T054258
CREATED:20260325T194648Z
LAST-MODIFIED:20260325T194648Z
UID:10002275-1779787800-1779791400@crossroads4hope.org
SUMMARY:Balance Harmony Flow: Jin Shin Jyutsu
DESCRIPTION:
URL:https://crossroads4hope.org/event/balance-harmony-flow-jin-shin-jyutsu/
CATEGORIES:Mind & Body,Virtual
ATTACH;FMTTYPE=image/webp:https://crossroads4hope.org/wp-content/uploads/2025/03/AdobeStock_432709822-2048x1365-aVRvke.tmp_.webp
END:VEVENT
BEGIN:VEVENT
DTSTART;TZID=America/New_York:20260526T110000
DTEND;TZID=America/New_York:20260526T120000
DTSTAMP:20260420T054258
CREATED:20260325T194515Z
LAST-MODIFIED:20260325T194515Z
UID:10002256-1779793200-1779796800@crossroads4hope.org
SUMMARY:Peaceful Practices for Life: Spirituality
DESCRIPTION:
URL:https://crossroads4hope.org/event/peaceful-practices-for-life-spirituality-4/
CATEGORIES:Mind & Body,Virtual
ATTACH;FMTTYPE=image/webp:https://crossroads4hope.org/wp-content/uploads/2025/03/AdobeStock_99832137-1-2048x1366-HiHo6c.tmp_.webp
END:VEVENT
BEGIN:VEVENT
DTSTART;TZID=America/New_York:20260526T120000
DTEND;TZID=America/New_York:20260526T133000
DTSTAMP:20260420T054258
CREATED:20260325T194737Z
LAST-MODIFIED:20260325T194737Z
UID:10002292-1779796800-1779802200@crossroads4hope.org
SUMMARY:Grupo de Apoyo para el Cancer - Martes
DESCRIPTION:Looking to Join Our Support Groups?		\n				\n				\n				\n			Fill out the form below if you are interested in joining one of our support groups and someone from our team will be in touch soon. 		\n				\n				\n				\n					\n			\n			\n			\n\n			\n			\n								\n												\n								First Name							\n														\n											\n								\n												\n								Last Name							\n														\n											\n								\n												\n								Email							\n														\n											\n								\n												\n								Phone							\n								\n\n						\n								\n												\n								Which group(s) below are you interested in joining? Select all that apply.							\n						 Advanced Breast Cancer Support Group Bereavement Support Group Caregiver Support Group Grupo de Apoyo para el cancer Living with Cancer Support Group (Virtual) Men's Cancer Support Group Survivorship Support Group Other				\n								\n									\n								\n												\n								If you've selected "Other" above\, please let us know what you are looking for that we don't currently offer.							\n														\n											\n								\n					\n						\n																						Submit
URL:https://crossroads4hope.org/event/grupo-de-apoyo-para-el-cancer-martes-2/
CATEGORIES:Programas en Español,Virtual
ATTACH;FMTTYPE=image/webp:https://crossroads4hope.org/wp-content/uploads/2025/03/AdobeStock_610198709-2-980x654-vpG4KI.tmp_.webp
END:VEVENT
BEGIN:VEVENT
DTSTART;TZID=America/New_York:20260526T123000
DTEND;TZID=America/New_York:20260526T133000
DTSTAMP:20260420T054259
CREATED:20260325T194606Z
LAST-MODIFIED:20260325T194606Z
UID:10002272-1779798600-1779802200@crossroads4hope.org
SUMMARY:T'ai Chi Chih
DESCRIPTION:
URL:https://crossroads4hope.org/event/tai-chi-chih-8/
CATEGORIES:Mind & Body,Virtual
ATTACH;FMTTYPE=image/webp:https://crossroads4hope.org/wp-content/uploads/2025/03/AdobeStock_663548659-1280x718-RLpOfY.tmp_.webp
END:VEVENT
BEGIN:VEVENT
DTSTART;TZID=America/New_York:20260526T183000
DTEND;TZID=America/New_York:20260526T193000
DTSTAMP:20260420T054259
CREATED:20260325T194647Z
LAST-MODIFIED:20260325T194647Z
UID:10002274-1779820200-1779823800@crossroads4hope.org
SUMMARY:Yoga (Evening)
DESCRIPTION:
URL:https://crossroads4hope.org/event/yoga-evening-8/
CATEGORIES:Mind & Body,Virtual
ATTACH;FMTTYPE=image/webp:https://crossroads4hope.org/wp-content/uploads/2025/03/AdobeStock_548189245-1280x839-oM5jJI.tmp_.webp
END:VEVENT
BEGIN:VEVENT
DTSTART;TZID=America/New_York:20260527T093000
DTEND;TZID=America/New_York:20260527T103000
DTSTAMP:20260420T054259
CREATED:20260325T194602Z
LAST-MODIFIED:20260325T194602Z
UID:10002268-1779874200-1779877800@crossroads4hope.org
SUMMARY:Yoga Breathe & Balance
DESCRIPTION:
URL:https://crossroads4hope.org/event/yoga-breathe-balance-8/
CATEGORIES:Mind & Body,Virtual
ATTACH;FMTTYPE=image/webp:https://crossroads4hope.org/wp-content/uploads/2025/03/AdobeStock_194262733-1-jpeg-webp-psN0A7.tmp_.webp
END:VEVENT
BEGIN:VEVENT
DTSTART;TZID=America/New_York:20260527T113000
DTEND;TZID=America/New_York:20260527T130000
DTSTAMP:20260420T054259
CREATED:20260403T140119Z
LAST-MODIFIED:20260403T140119Z
UID:10002305-1779881400-1779886800@crossroads4hope.org
SUMMARY:Advanced Breast Cancer
DESCRIPTION:Looking to Join Our Support Groups?		\n				\n				\n				\n			Fill out the form below if you are interested in joining one of our support groups and someone from our team will be in touch soon. 		\n				\n				\n				\n					\n			\n			\n			\n\n			\n			\n								\n												\n								First Name							\n														\n											\n								\n												\n								Last Name							\n														\n											\n								\n												\n								Email							\n														\n											\n								\n												\n								Phone							\n								\n\n						\n								\n												\n								Which group(s) below are you interested in joining? Select all that apply.							\n						 Advanced Breast Cancer Support Group Bereavement Support Group Caregiver Support Group Grupo de Apoyo para el cancer Living with Cancer Support Group (Virtual) Men's Cancer Support Group Survivorship Support Group Other				\n								\n									\n								\n												\n								If you've selected "Other" above\, please let us know what you are looking for that we don't currently offer.							\n														\n											\n								\n					\n						\n																						Submit
URL:https://crossroads4hope.org/event/advanced-breast-cancer-11/
CATEGORIES:Support Groups,Virtual
ATTACH;FMTTYPE=image/webp:https://crossroads4hope.org/wp-content/uploads/2025/03/AdobeStock_222236651-980x653-XIEh96.tmp_.webp
END:VEVENT
BEGIN:VEVENT
DTSTART;TZID=America/New_York:20260527T163000
DTEND;TZID=America/New_York:20260527T180000
DTSTAMP:20260420T054259
CREATED:20260325T194522Z
LAST-MODIFIED:20260325T194522Z
UID:10002262-1779899400-1779904800@crossroads4hope.org
SUMMARY:Reiki Circle
DESCRIPTION:Registration		\n				\n				\n				\n			Please fill out the form below if you are interested in registering for this class.		\n				\n				\n				\n					\n			\n			\n			\n\n			\n			\n								\n												\n								First Name							\n														\n											\n								\n												\n								Last Name							\n														\n											\n								\n												\n								Email							\n														\n											\n								\n												\n								Mobile Number (xxx-xxx-xxxx)							\n								\n\n						\n								\n												\n								Address Zip Code							\n														\n											\n								\n									\n								\n													\n											\n								\n													\n											\n								\n									\n								\n									\n								\n													\n											\n								\n													\n											\n								\n					\n						\n																						Register
URL:https://crossroads4hope.org/event/reiki-circle-3/
LOCATION:Crossroads4Hope\, 3 Crossroads Dr\, Bedminster\, NJ\, 07921\, United States
CATEGORIES:In Person,Mind & Body
ATTACH;FMTTYPE=image/webp:https://crossroads4hope.org/wp-content/uploads/2025/03/AdobeStock_245926260-1080x720-c5MxlT.tmp_.webp
END:VEVENT
BEGIN:VEVENT
DTSTART;TZID=America/New_York:20260527T183000
DTEND;TZID=America/New_York:20260527T200000
DTSTAMP:20260420T054259
CREATED:20260325T194726Z
LAST-MODIFIED:20260325T194726Z
UID:10002281-1779906600-1779912000@crossroads4hope.org
SUMMARY:Mens Cancer (Wednesday Evenings)
DESCRIPTION:Looking to Join Our Support Groups?		\n				\n				\n				\n			Fill out the form below if you are interested in joining one of our support groups and someone from our team will be in touch soon. 		\n				\n				\n				\n					\n			\n			\n			\n\n			\n			\n								\n												\n								First Name							\n														\n											\n								\n												\n								Last Name							\n														\n											\n								\n												\n								Email							\n														\n											\n								\n												\n								Phone							\n								\n\n						\n								\n												\n								Which group(s) below are you interested in joining? Select all that apply.							\n						 Advanced Breast Cancer Support Group Bereavement Support Group Caregiver Support Group Grupo de Apoyo para el cancer Living with Cancer Support Group (Virtual) Men's Cancer Support Group Survivorship Support Group Other				\n								\n									\n								\n												\n								If you've selected "Other" above\, please let us know what you are looking for that we don't currently offer.							\n														\n											\n								\n					\n						\n																						Submit
URL:https://crossroads4hope.org/event/mens-cancer-wednesday-evenings-3/
CATEGORIES:Support Groups,Virtual
ATTACH;FMTTYPE=image/webp:https://crossroads4hope.org/wp-content/uploads/2025/03/AdobeStock_472777449-980x653-TCXxyM.tmp_.webp
END:VEVENT
BEGIN:VEVENT
DTSTART;TZID=America/New_York:20260528T090000
DTEND;TZID=America/New_York:20260528T100000
DTSTAMP:20260420T054259
CREATED:20260325T194520Z
LAST-MODIFIED:20260325T194520Z
UID:10002260-1779958800-1779962400@crossroads4hope.org
SUMMARY:Move and Tone (Thursday)
DESCRIPTION:
URL:https://crossroads4hope.org/event/move-and-tone-thursday-8/
CATEGORIES:Mind & Body,Virtual
ATTACH;FMTTYPE=image/webp:https://crossroads4hope.org/wp-content/uploads/2025/03/AdobeStock_322276101-1024x683-Ufi512.tmp_.webp
END:VEVENT
BEGIN:VEVENT
DTSTART;TZID=America/New_York:20260528T110000
DTEND;TZID=America/New_York:20260528T123000
DTSTAMP:20260420T054259
CREATED:20260325T194724Z
LAST-MODIFIED:20260325T194724Z
UID:10002279-1779966000-1779971400@crossroads4hope.org
SUMMARY:Bereavement (Thursday Mornings)
DESCRIPTION:Looking to Join Our Support Groups?		\n				\n				\n				\n			Fill out the form below if you are interested in joining one of our support groups and someone from our team will be in touch soon. 		\n				\n				\n				\n					\n			\n			\n			\n\n			\n			\n								\n												\n								First Name							\n														\n											\n								\n												\n								Last Name							\n														\n											\n								\n												\n								Email							\n														\n											\n								\n												\n								Phone							\n								\n\n						\n								\n												\n								Which group(s) below are you interested in joining? Select all that apply.							\n						 Advanced Breast Cancer Support Group Bereavement Support Group Caregiver Support Group Grupo de Apoyo para el cancer Living with Cancer Support Group (Virtual) Men's Cancer Support Group Survivorship Support Group Other				\n								\n									\n								\n												\n								If you've selected "Other" above\, please let us know what you are looking for that we don't currently offer.							\n														\n											\n								\n					\n						\n																						Submit
URL:https://crossroads4hope.org/event/bereavement-thursday-mornings-7/
CATEGORIES:Support Groups,Virtual
ATTACH;FMTTYPE=image/webp:https://crossroads4hope.org/wp-content/uploads/2025/03/AdobeStock_270615739-2048x1431-YR8fgF.tmp_.webp
END:VEVENT
BEGIN:VEVENT
DTSTART;TZID=America/New_York:20260528T170000
DTEND;TZID=America/New_York:20260528T180000
DTSTAMP:20260420T054259
CREATED:20260324T151049Z
LAST-MODIFIED:20260324T151049Z
UID:10002251-1779987600-1779991200@crossroads4hope.org
SUMMARY:Cognitive Fitness: Beating Brain Fog
DESCRIPTION:Registration		\n				\n				\n				\n			Please fill out the form below if you are interested in registering for this class.		\n				\n				\n				\n					\n			\n			\n			\n\n			\n			\n								\n												\n								First Name							\n														\n											\n								\n												\n								Last Name							\n														\n											\n								\n												\n								Email							\n														\n											\n								\n												\n								Mobile Number (xxx-xxx-xxxx)							\n								\n\n						\n								\n												\n								Address Zip Code							\n														\n											\n								\n									\n								\n													\n											\n								\n													\n											\n								\n									\n								\n									\n								\n													\n											\n								\n													\n											\n								\n					\n						\n																						Register
URL:https://crossroads4hope.org/event/cognitive-fitness-beating-brain-fog/
LOCATION:Crossroads4Hope\, 3 Crossroads Dr\, Bedminster\, NJ\, 07921\, United States
CATEGORIES:Education,In Person
ATTACH;FMTTYPE=image/png:https://crossroads4hope.org/wp-content/uploads/2026/03/Cognitive-FitnessBeating-brain-fog.png
END:VEVENT
BEGIN:VEVENT
DTSTART;TZID=America/New_York:20260528T190000
DTEND;TZID=America/New_York:20260528T203000
DTSTAMP:20260420T054259
CREATED:20260325T194735Z
LAST-MODIFIED:20260325T194735Z
UID:10002290-1779994800-1780000200@crossroads4hope.org
SUMMARY:Grupo de Apoyo para el Cancer
DESCRIPTION:Looking to Join Our Support Groups?		\n				\n				\n				\n			Fill out the form below if you are interested in joining one of our support groups and someone from our team will be in touch soon. 		\n				\n				\n				\n					\n			\n			\n			\n\n			\n			\n								\n												\n								First Name							\n														\n											\n								\n												\n								Last Name							\n														\n											\n								\n												\n								Email							\n														\n											\n								\n												\n								Phone							\n								\n\n						\n								\n												\n								Which group(s) below are you interested in joining? Select all that apply.							\n						 Advanced Breast Cancer Support Group Bereavement Support Group Caregiver Support Group Grupo de Apoyo para el cancer Living with Cancer Support Group (Virtual) Men's Cancer Support Group Survivorship Support Group Other				\n								\n									\n								\n												\n								If you've selected "Other" above\, please let us know what you are looking for that we don't currently offer.							\n														\n											\n								\n					\n						\n																						Submit
URL:https://crossroads4hope.org/event/grupo-de-apoyo-para-el-cancer-7/
CATEGORIES:Programas en Español,Virtual
ATTACH;FMTTYPE=image/webp:https://crossroads4hope.org/wp-content/uploads/2025/03/AdobeStock_610198709-2-980x654-vpG4KI.tmp_.webp
END:VEVENT
END:VCALENDAR