BEGIN:VCALENDAR
VERSION:2.0
PRODID:-//Crossroads4Hope - ECPv6.10.2//NONSGML v1.0//EN
CALSCALE:GREGORIAN
METHOD:PUBLISH
X-WR-CALNAME:Crossroads4Hope
X-ORIGINAL-URL:https://crossroads4hope.org
X-WR-CALDESC:Events for Crossroads4Hope
REFRESH-INTERVAL;VALUE=DURATION:PT1H
X-Robots-Tag:noindex
X-PUBLISHED-TTL:PT1H
BEGIN:VTIMEZONE
TZID:America/New_York
BEGIN:DAYLIGHT
TZOFFSETFROM:-0500
TZOFFSETTO:-0400
TZNAME:EDT
DTSTART:20260308T070000
END:DAYLIGHT
BEGIN:STANDARD
TZOFFSETFROM:-0400
TZOFFSETTO:-0500
TZNAME:EST
DTSTART:20261101T060000
END:STANDARD
END:VTIMEZONE
BEGIN:VEVENT
DTSTART;TZID=America/New_York:20260511T180000
DTEND;TZID=America/New_York:20260511T190000
DTSTAMP:20260424T054440
CREATED:20260325T194649Z
LAST-MODIFIED:20260325T194649Z
UID:10002277-1778522400-1778526000@crossroads4hope.org
SUMMARY:Wellness Workout (Evening)
DESCRIPTION:
URL:https://crossroads4hope.org/event/wellness-workout-evening-2/
CATEGORIES:Mind & Body,Virtual
ATTACH;FMTTYPE=image/webp:https://crossroads4hope.org/wp-content/uploads/2025/03/AdobeStock_635220021-2048x1502-iLUHZ3.tmp_.webp
END:VEVENT
BEGIN:VEVENT
DTSTART;TZID=America/New_York:20260512T110000
DTEND;TZID=America/New_York:20260512T120000
DTSTAMP:20260424T054440
CREATED:20260325T194513Z
LAST-MODIFIED:20260325T194513Z
UID:10002254-1778583600-1778587200@crossroads4hope.org
SUMMARY:Peaceful Practices for Life: Meditation
DESCRIPTION:
URL:https://crossroads4hope.org/event/peaceful-practices-for-life-meditation/
CATEGORIES:Mind & Body,Virtual
ATTACH;FMTTYPE=image/webp:https://crossroads4hope.org/wp-content/uploads/2025/03/AdobeStock_99832137-1-2048x1366-HiHo6c.tmp_.webp
END:VEVENT
BEGIN:VEVENT
DTSTART;TZID=America/New_York:20260512T123000
DTEND;TZID=America/New_York:20260512T133000
DTSTAMP:20260424T054440
CREATED:20260325T194604Z
LAST-MODIFIED:20260325T194604Z
UID:10002270-1778589000-1778592600@crossroads4hope.org
SUMMARY:T'ai Chi Chih
DESCRIPTION:
URL:https://crossroads4hope.org/event/tai-chi-chih-2/
CATEGORIES:Mind & Body,Virtual
ATTACH;FMTTYPE=image/webp:https://crossroads4hope.org/wp-content/uploads/2025/03/AdobeStock_663548659-1280x718-RLpOfY.tmp_.webp
END:VEVENT
BEGIN:VEVENT
DTSTART;TZID=America/New_York:20260512T183000
DTEND;TZID=America/New_York:20260512T193000
DTSTAMP:20260424T054440
CREATED:20260325T194558Z
LAST-MODIFIED:20260325T194558Z
UID:10002264-1778610600-1778614200@crossroads4hope.org
SUMMARY:Yoga (Evening)
DESCRIPTION:
URL:https://crossroads4hope.org/event/yoga-evening-2/
CATEGORIES:Mind & Body,Virtual
ATTACH;FMTTYPE=image/webp:https://crossroads4hope.org/wp-content/uploads/2025/03/AdobeStock_548189245-1280x839-oM5jJI.tmp_.webp
END:VEVENT
BEGIN:VEVENT
DTSTART;TZID=America/New_York:20260513T093000
DTEND;TZID=America/New_York:20260513T103000
DTSTAMP:20260424T054440
CREATED:20260325T194600Z
LAST-MODIFIED:20260325T194600Z
UID:10002266-1778664600-1778668200@crossroads4hope.org
SUMMARY:Yoga Breathe & Balance
DESCRIPTION:
URL:https://crossroads4hope.org/event/yoga-breathe-balance-2/
CATEGORIES:Mind & Body,Virtual
ATTACH;FMTTYPE=image/webp:https://crossroads4hope.org/wp-content/uploads/2025/03/AdobeStock_194262733-1-jpeg-webp-psN0A7.tmp_.webp
END:VEVENT
BEGIN:VEVENT
DTSTART;TZID=America/New_York:20260513T163000
DTEND;TZID=America/New_York:20260513T180000
DTSTAMP:20260424T054440
CREATED:20260325T194521Z
LAST-MODIFIED:20260325T194521Z
UID:10002261-1778689800-1778695200@crossroads4hope.org
SUMMARY:Reiki Circle
DESCRIPTION:Registration		\n				\n				\n				\n			Please fill out the form below if you are interested in registering for this class.		\n				\n				\n				\n					\n			\n			\n			\n\n			\n			\n								\n												\n								First Name							\n														\n											\n								\n												\n								Last Name							\n														\n											\n								\n												\n								Email							\n														\n											\n								\n												\n								Mobile Number (xxx-xxx-xxxx)							\n								\n\n						\n								\n												\n								Address Zip Code							\n														\n											\n								\n									\n								\n													\n											\n								\n													\n											\n								\n									\n								\n									\n								\n													\n											\n								\n													\n											\n								\n					\n						\n																						Register
URL:https://crossroads4hope.org/event/reiki-circle/
LOCATION:Crossroads4Hope\, 3 Crossroads Dr\, Bedminster\, NJ\, 07921\, United States
CATEGORIES:In Person,Mind & Body
ATTACH;FMTTYPE=image/webp:https://crossroads4hope.org/wp-content/uploads/2025/03/AdobeStock_245926260-1080x720-c5MxlT.tmp_.webp
END:VEVENT
BEGIN:VEVENT
DTSTART;TZID=America/New_York:20260514T090000
DTEND;TZID=America/New_York:20260514T100000
DTSTAMP:20260424T054441
CREATED:20260325T194517Z
LAST-MODIFIED:20260325T194517Z
UID:10002258-1778749200-1778752800@crossroads4hope.org
SUMMARY:Move and Tone (Thursday)
DESCRIPTION:
URL:https://crossroads4hope.org/event/move-and-tone-thursday-2/
CATEGORIES:Mind & Body,Virtual
ATTACH;FMTTYPE=image/webp:https://crossroads4hope.org/wp-content/uploads/2025/03/AdobeStock_322276101-1024x683-Ufi512.tmp_.webp
END:VEVENT
BEGIN:VEVENT
DTSTART;TZID=America/New_York:20260514T110000
DTEND;TZID=America/New_York:20260514T120000
DTSTAMP:20260424T054441
CREATED:20260325T194746Z
LAST-MODIFIED:20260325T194746Z
UID:10002300-1778756400-1778760000@crossroads4hope.org
SUMMARY:Balance Harmony Flow: Jin Shin Jyutsu (Thursday)
DESCRIPTION:
URL:https://crossroads4hope.org/event/balance-harmony-flow-jin-shin-jyutsu-thursday/
CATEGORIES:Mind & Body,Virtual
ATTACH;FMTTYPE=image/webp:https://crossroads4hope.org/wp-content/uploads/2025/03/AdobeStock_432709822-2048x1365-aVRvke.tmp_.webp
END:VEVENT
END:VCALENDAR