BEGIN:VCALENDAR
VERSION:2.0
PRODID:-//Crossroads4Hope - ECPv6.10.2//NONSGML v1.0//EN
CALSCALE:GREGORIAN
METHOD:PUBLISH
X-WR-CALNAME:Crossroads4Hope
X-ORIGINAL-URL:https://crossroads4hope.org
X-WR-CALDESC:Events for Crossroads4Hope
REFRESH-INTERVAL;VALUE=DURATION:PT1H
X-Robots-Tag:noindex
X-PUBLISHED-TTL:PT1H
BEGIN:VTIMEZONE
TZID:America/New_York
BEGIN:DAYLIGHT
TZOFFSETFROM:-0500
TZOFFSETTO:-0400
TZNAME:EDT
DTSTART:20260308T070000
END:DAYLIGHT
BEGIN:STANDARD
TZOFFSETFROM:-0400
TZOFFSETTO:-0500
TZNAME:EST
DTSTART:20261101T060000
END:STANDARD
END:VTIMEZONE
BEGIN:VEVENT
DTSTART;TZID=America/New_York:20260427T180000
DTEND;TZID=America/New_York:20260427T190000
DTSTAMP:20260424T054645
CREATED:20260227T174721Z
LAST-MODIFIED:20260227T174721Z
UID:10002235-1777312800-1777316400@crossroads4hope.org
SUMMARY:Wellness Workout (Evening)
DESCRIPTION:
URL:https://crossroads4hope.org/event/wellness-workout-evening-7/
CATEGORIES:Mind & Body,Virtual
ATTACH;FMTTYPE=image/webp:https://crossroads4hope.org/wp-content/uploads/2025/03/AdobeStock_635220021-2048x1502-iLUHZ3.tmp_.webp
END:VEVENT
BEGIN:VEVENT
DTSTART;TZID=America/New_York:20260428T093000
DTEND;TZID=America/New_York:20260428T103000
DTSTAMP:20260424T054645
CREATED:20260227T174717Z
LAST-MODIFIED:20260227T174717Z
UID:10002231-1777368600-1777372200@crossroads4hope.org
SUMMARY:Balance Harmony Flow: Jin Shin Jyutsu
DESCRIPTION:
URL:https://crossroads4hope.org/event/balance-harmony-flow-jin-shin-jyutsu-3/
CATEGORIES:Mind & Body,Virtual
ATTACH;FMTTYPE=image/webp:https://crossroads4hope.org/wp-content/uploads/2025/03/AdobeStock_432709822-2048x1365-aVRvke.tmp_.webp
END:VEVENT
BEGIN:VEVENT
DTSTART;TZID=America/New_York:20260428T110000
DTEND;TZID=America/New_York:20260428T120000
DTSTAMP:20260424T054645
CREATED:20260227T174546Z
LAST-MODIFIED:20260227T174546Z
UID:10002199-1777374000-1777377600@crossroads4hope.org
SUMMARY:Peaceful Practices for Life: Spirituality
DESCRIPTION:
URL:https://crossroads4hope.org/event/peaceful-practices-for-life-spirituality-6/
CATEGORIES:Mind & Body,Virtual
ATTACH;FMTTYPE=image/webp:https://crossroads4hope.org/wp-content/uploads/2025/03/AdobeStock_99832137-1-2048x1366-HiHo6c.tmp_.webp
END:VEVENT
BEGIN:VEVENT
DTSTART;TZID=America/New_York:20260428T123000
DTEND;TZID=America/New_York:20260428T133000
DTSTAMP:20260424T054645
CREATED:20260324T152529Z
LAST-MODIFIED:20260324T152529Z
UID:10002220-1777379400-1777383000@crossroads4hope.org
SUMMARY:T'ai Chi Chih
DESCRIPTION:
URL:https://crossroads4hope.org/event/tai-chi-chih-12/
CATEGORIES:Mind & Body,Virtual
ATTACH;FMTTYPE=image/webp:https://crossroads4hope.org/wp-content/uploads/2025/03/AdobeStock_663548659-1280x718-RLpOfY.tmp_.webp
END:VEVENT
BEGIN:VEVENT
DTSTART;TZID=America/New_York:20260428T183000
DTEND;TZID=America/New_York:20260428T193000
DTSTAMP:20260424T054645
CREATED:20260324T165031Z
LAST-MODIFIED:20260324T165031Z
UID:10002228-1777401000-1777404600@crossroads4hope.org
SUMMARY:Yoga (Evening)
DESCRIPTION:
URL:https://crossroads4hope.org/event/yoga-evening-13/
CATEGORIES:Mind & Body,Virtual
ATTACH;FMTTYPE=image/webp:https://crossroads4hope.org/wp-content/uploads/2025/03/AdobeStock_548189245-1280x839-oM5jJI.tmp_.webp
END:VEVENT
BEGIN:VEVENT
DTSTART;TZID=America/New_York:20260429T093000
DTEND;TZID=America/New_York:20260429T103000
DTSTAMP:20260424T054645
CREATED:20260227T174606Z
LAST-MODIFIED:20260227T174606Z
UID:10002210-1777455000-1777458600@crossroads4hope.org
SUMMARY:Yoga Breathe & Balance
DESCRIPTION:
URL:https://crossroads4hope.org/event/yoga-breathe-balance-14/
CATEGORIES:Mind & Body,Virtual
ATTACH;FMTTYPE=image/webp:https://crossroads4hope.org/wp-content/uploads/2025/03/AdobeStock_194262733-1-jpeg-webp-psN0A7.tmp_.webp
END:VEVENT
BEGIN:VEVENT
DTSTART;TZID=America/New_York:20260430T090000
DTEND;TZID=America/New_York:20260430T100000
DTSTAMP:20260424T054645
CREATED:20260227T174610Z
LAST-MODIFIED:20260227T174610Z
UID:10002213-1777539600-1777543200@crossroads4hope.org
SUMMARY:Move and Tone (Thursday)
DESCRIPTION:
URL:https://crossroads4hope.org/event/move-and-tone-thursday-14/
CATEGORIES:Mind & Body,Virtual
ATTACH;FMTTYPE=image/webp:https://crossroads4hope.org/wp-content/uploads/2025/03/AdobeStock_322276101-1024x683-Ufi512.tmp_.webp
END:VEVENT
BEGIN:VEVENT
DTSTART;TZID=America/New_York:20260430T130000
DTEND;TZID=America/New_York:20260430T143000
DTSTAMP:20260424T054645
CREATED:20260302T182136Z
LAST-MODIFIED:20260302T182136Z
UID:10002195-1777554000-1777559400@crossroads4hope.org
SUMMARY:Rooted in Hope: Forest Bathing for Healing
DESCRIPTION:Registration		\n				\n				\n				\n			Please fill out the form below if you are interested in registering for this class.		\n				\n				\n				\n					\n			\n			\n			\n\n			\n			\n								\n												\n								First Name							\n														\n											\n								\n												\n								Last Name							\n														\n											\n								\n												\n								Email							\n														\n											\n								\n												\n								Mobile Number (xxx-xxx-xxxx)							\n								\n\n						\n								\n												\n								Address Zip Code							\n														\n											\n								\n									\n								\n													\n											\n								\n													\n											\n								\n									\n								\n									\n								\n													\n											\n								\n													\n											\n								\n					\n						\n																						Register
URL:https://crossroads4hope.org/event/rooted-in-hope-forest-bathing-for-healing/
LOCATION:Crossroads4Hope\, 3 Crossroads Dr\, Bedminster\, NJ\, 07921\, United States
CATEGORIES:In Person,Mind & Body
ATTACH;FMTTYPE=image/png:https://crossroads4hope.org/wp-content/uploads/2026/03/Rooted-in-Hope-Forest-Bathing-for-Healing.png
END:VEVENT
END:VCALENDAR