BEGIN:VCALENDAR
VERSION:2.0
PRODID:-//Crossroads4Hope - ECPv6.10.2//NONSGML v1.0//EN
CALSCALE:GREGORIAN
METHOD:PUBLISH
X-WR-CALNAME:Crossroads4Hope
X-ORIGINAL-URL:https://crossroads4hope.org
X-WR-CALDESC:Events for Crossroads4Hope
REFRESH-INTERVAL;VALUE=DURATION:PT1H
X-Robots-Tag:noindex
X-PUBLISHED-TTL:PT1H
BEGIN:VTIMEZONE
TZID:America/New_York
BEGIN:DAYLIGHT
TZOFFSETFROM:-0500
TZOFFSETTO:-0400
TZNAME:EDT
DTSTART:20260308T070000
END:DAYLIGHT
BEGIN:STANDARD
TZOFFSETFROM:-0400
TZOFFSETTO:-0500
TZNAME:EST
DTSTART:20261101T060000
END:STANDARD
END:VTIMEZONE
BEGIN:VEVENT
DTSTART;TZID=America/New_York:20260421T110000
DTEND;TZID=America/New_York:20260421T120000
DTSTAMP:20260422T082738
CREATED:20260421T150016Z
LAST-MODIFIED:20260421T150016Z
UID:10002198-1776769200-1776772800@crossroads4hope.org
SUMMARY:Peaceful Practices for Life: Spirituality
DESCRIPTION:Registration for this session has ended.
URL:https://crossroads4hope.org/event/peaceful-practices-for-life-spirituality-2/
CATEGORIES:Mind & Body,Virtual
ATTACH;FMTTYPE=image/webp:https://crossroads4hope.org/wp-content/uploads/2025/03/AdobeStock_99832137-1-2048x1366-HiHo6c.tmp_.webp
END:VEVENT
BEGIN:VEVENT
DTSTART;TZID=America/New_York:20260421T123000
DTEND;TZID=America/New_York:20260421T133000
DTSTAMP:20260422T082738
CREATED:20260421T163002Z
LAST-MODIFIED:20260421T163002Z
UID:10002219-1776774600-1776778200@crossroads4hope.org
SUMMARY:T'ai Chi Chih
DESCRIPTION:Registration for this session has ended.
URL:https://crossroads4hope.org/event/tai-chi-chih-6/
CATEGORIES:Mind & Body,Virtual
ATTACH;FMTTYPE=image/webp:https://crossroads4hope.org/wp-content/uploads/2025/03/AdobeStock_663548659-1280x718-RLpOfY.tmp_.webp
END:VEVENT
BEGIN:VEVENT
DTSTART;TZID=America/New_York:20260421T183000
DTEND;TZID=America/New_York:20260421T193000
DTSTAMP:20260422T082738
CREATED:20260421T223002Z
LAST-MODIFIED:20260421T223002Z
UID:10002227-1776796200-1776799800@crossroads4hope.org
SUMMARY:Yoga (Evening)
DESCRIPTION:Registration for this session has ended.
URL:https://crossroads4hope.org/event/yoga-evening-6/
CATEGORIES:Mind & Body,Virtual
ATTACH;FMTTYPE=image/webp:https://crossroads4hope.org/wp-content/uploads/2025/03/AdobeStock_548189245-1280x839-oM5jJI.tmp_.webp
END:VEVENT
END:VCALENDAR