BEGIN:VCALENDAR
VERSION:2.0
PRODID:-//Crossroads4Hope - ECPv6.10.2//NONSGML v1.0//EN
CALSCALE:GREGORIAN
METHOD:PUBLISH
X-WR-CALNAME:Crossroads4Hope
X-ORIGINAL-URL:https://crossroads4hope.org
X-WR-CALDESC:Events for Crossroads4Hope
REFRESH-INTERVAL;VALUE=DURATION:PT1H
X-Robots-Tag:noindex
X-PUBLISHED-TTL:PT1H
BEGIN:VTIMEZONE
TZID:America/New_York
BEGIN:DAYLIGHT
TZOFFSETFROM:-0500
TZOFFSETTO:-0400
TZNAME:EDT
DTSTART:20260308T070000
END:DAYLIGHT
BEGIN:STANDARD
TZOFFSETFROM:-0400
TZOFFSETTO:-0500
TZNAME:EST
DTSTART:20261101T060000
END:STANDARD
END:VTIMEZONE
BEGIN:VEVENT
DTSTART;TZID=America/New_York:20260416T110000
DTEND;TZID=America/New_York:20260416T123000
DTSTAMP:20260422T042541
CREATED:20260414T210003Z
LAST-MODIFIED:20260414T210003Z
UID:39212-1776337200-1776342600@crossroads4hope.org
SUMMARY:Reiki Circle (Thursday)
DESCRIPTION:Registration for this session has ended.
URL:https://crossroads4hope.org/event/reiki-circle-thursday-6/
LOCATION:Crossroads4Hope\, 3 Crossroads Dr\, Bedminster\, NJ\, 07921\, United States
CATEGORIES:In Person,Mind & Body
ATTACH;FMTTYPE=image/webp:https://crossroads4hope.org/wp-content/uploads/2025/03/AdobeStock_245926260-1080x720-c5MxlT.tmp_.webp
END:VEVENT
END:VCALENDAR